BEGIN:VCALENDAR
VERSION:2.0
PRODID:icalendar-ruby
CALSCALE:GREGORIAN
METHOD:PUBLISH
BEGIN:VEVENT
DTSTAMP:20260419T212816Z
UID:865-828731@standrewssidney.ca
DTSTART:20261011T170000Z
DTEND:20261011T180000Z
CLASS:PUBLIC
CREATED:20260419T110031
DESCRIPTION:10 a.m. Holy Eucharist
LAST-MODIFIED:20260419T110031
LOCATION:
SUMMARY:Holy Eucharist
URL;VALUE=URI:https://www.standrewssidney.ca/events/holy-eucharist--865/202
 6-10-11
END:VEVENT
END:VCALENDAR
