BEGIN:VCALENDAR
VERSION:2.0
PRODID:icalendar-ruby
CALSCALE:GREGORIAN
METHOD:PUBLISH
BEGIN:VEVENT
DTSTAMP:20260419T232228Z
UID:865-829032@standrewssidney.ca
DTSTART:20261018T170000Z
DTEND:20261018T180000Z
CLASS:PUBLIC
CREATED:20260419T144318
DESCRIPTION:10 a.m. Holy Eucharist
LAST-MODIFIED:20260419T144318
LOCATION:
SUMMARY:Holy Eucharist
URL;VALUE=URI:https://www.standrewssidney.ca/events/holy-eucharist--865/202
 6-10-18
END:VEVENT
END:VCALENDAR
