BEGIN:VCALENDAR
VERSION:2.0
PRODID:icalendar-ruby
CALSCALE:GREGORIAN
METHOD:PUBLISH
BEGIN:VEVENT
DTSTAMP:20260420T022629Z
UID:865-829334@standrewssidney.ca
DTSTART:20261101T180000Z
DTEND:20261101T190000Z
CLASS:PUBLIC
CREATED:20260419T182411
DESCRIPTION:10 a.m. Holy Eucharist
LAST-MODIFIED:20260419T182411
LOCATION:
SUMMARY:Holy Eucharist
URL;VALUE=URI:https://www.standrewssidney.ca/events/holy-eucharist--865/202
 6-11-01
END:VEVENT
END:VCALENDAR
